BEGIN:VCALENDAR
VERSION:2.0
PRODID:-//Cogent Steps, LLC - ECPv6.15.18//NONSGML v1.0//EN
CALSCALE:GREGORIAN
METHOD:PUBLISH
X-ORIGINAL-URL:https://cogentsteps.net
X-WR-CALDESC:Events for Cogent Steps, LLC
REFRESH-INTERVAL;VALUE=DURATION:PT1H
X-Robots-Tag:noindex
X-PUBLISHED-TTL:PT1H
BEGIN:VTIMEZONE
TZID:America/New_York
BEGIN:DAYLIGHT
TZOFFSETFROM:-0500
TZOFFSETTO:-0400
TZNAME:EDT
DTSTART:20250309T070000
END:DAYLIGHT
BEGIN:STANDARD
TZOFFSETFROM:-0400
TZOFFSETTO:-0500
TZNAME:EST
DTSTART:20251102T060000
END:STANDARD
BEGIN:DAYLIGHT
TZOFFSETFROM:-0500
TZOFFSETTO:-0400
TZNAME:EDT
DTSTART:20260308T070000
END:DAYLIGHT
BEGIN:STANDARD
TZOFFSETFROM:-0400
TZOFFSETTO:-0500
TZNAME:EST
DTSTART:20261101T060000
END:STANDARD
BEGIN:DAYLIGHT
TZOFFSETFROM:-0500
TZOFFSETTO:-0400
TZNAME:EDT
DTSTART:20270314T070000
END:DAYLIGHT
BEGIN:STANDARD
TZOFFSETFROM:-0400
TZOFFSETTO:-0500
TZNAME:EST
DTSTART:20271107T060000
END:STANDARD
END:VTIMEZONE
BEGIN:VEVENT
DTSTART;VALUE=DATE:20260627
DTEND;VALUE=DATE:20260629
DTSTAMP:20260421T125423
CREATED:20260217T195804Z
LAST-MODIFIED:20260421T154007Z
UID:42646-1782518400-1782691199@cogentsteps.net
SUMMARY:Open / ERA Course June 27-28\, 2026 - Omaha\, NE
DESCRIPTION:ERA Full Course – Omaha\, NE\nDate: Saturday\, June 27 – Sunday\, June 28\, 2026Location:\nRock Valley PT\n7611 Pacific Street\nOmaha\, NE  68114 \nCapacity: 15 participants \nCPR training is not included in the ERA Course. Purchase this optional enrichment module through Cogent Steps online store. \nPhysicians: professional rate \nEMTs\, PTA\, and Coaches: student rate
URL:https://cogentsteps.net/calendar/open-era-course-june-27-28-2026-bennington-ne/
LOCATION:Rock Valley PT\, 7611 Pacific Street\, Omaha\, NE\, 68114\, United States
CATEGORIES:Emergency Response for the Athlete
ATTACH;FMTTYPE=image/jpeg:https://cogentsteps.net/wp-content/uploads/2026/02/era-cert-47.jpg
END:VEVENT
BEGIN:VEVENT
DTSTART;VALUE=DATE:20260711
DTEND;VALUE=DATE:20260713
DTSTAMP:20260421T125423
CREATED:20260311T194301Z
LAST-MODIFIED:20260421T154334Z
UID:44960-1783728000-1783900799@cogentsteps.net
SUMMARY:Open / ERA Course July 11-12\, 2026 – Folsom\, CA
DESCRIPTION:ERA Full Course – Folsom\, CADate: Saturday\, July 11 to Sunday\, July 12\, 2026Location:MAC Performance Physical Therapy\nPt 691 East Bidwell St\nFolsom\, CA 95639 \nCapacity: 15 participants \nCPR training is not included in the ERA Course. If CPR is needed\, please purchase this optional enrichment module at the Cogent Steps online store. \nPhysicians: professional rate \nEMTs\, PTA\, and Coaches: student rate
URL:https://cogentsteps.net/calendar/open-era-course-july-11-12-2026-folsom-ca/
LOCATION:MAC Performance Physical Therapy\, 691 East Bidwell St\, Folsom\, CA\, 95639\, United States
CATEGORIES:Emergency Response for the Athlete
ATTACH;FMTTYPE=image/jpeg:https://cogentsteps.net/wp-content/uploads/2026/03/era-cert-14.jpg
END:VEVENT
BEGIN:VEVENT
DTSTART;VALUE=DATE:20260711
DTEND;VALUE=DATE:20260712
DTSTAMP:20260421T125423
CREATED:20260403T193443Z
LAST-MODIFIED:20260421T163551Z
UID:46719-1783728000-1783814399@cogentsteps.net
SUMMARY:Open / ERA Recert July 11\, 2026 – Folsom\, CA
DESCRIPTION:ERA Recertification – Folsom\, CA \nDate: Saturday\, July 11\, 2026Location:\nMAC Performance Physical Therapy\nPt 691 East Bidwell St\nFolsom\, CA 95639 REVIEW: Information for Students and Frequently Asked Questions \nREMINDER: CPR training is not included in the course. Purchase this optional enrichment module through the Cogent Steps store.
URL:https://cogentsteps.net/calendar/open-era-recert-july-11-2026-folsom-ca/
LOCATION:MAC Performance Physical Therapy\, 691 East Bidwell St\, Folsom\, CA\, 95639\, United States
CATEGORIES:ERA Recertification
ATTACH;FMTTYPE=image/jpeg:https://cogentsteps.net/wp-content/uploads/2026/03/era-recert-125.jpg
END:VEVENT
BEGIN:VEVENT
DTSTART;VALUE=DATE:20260719
DTEND;VALUE=DATE:20260720
DTSTAMP:20260421T125423
CREATED:20260403T195247Z
LAST-MODIFIED:20260421T162850Z
UID:46721-1784419200-1784505599@cogentsteps.net
SUMMARY:Closed / ERA Recert July 19\, 2026 – Boise\, ID
DESCRIPTION:Content is protected.
URL:https://cogentsteps.net/calendar/closed-era-recert-july-19-2026-boise-id/
LOCATION:St. Luke’s Center for Orthopedic and Sports Medicine\, 2619 W Fairview Avenue\, Boise\, ID\, 83702\, United States
CATEGORIES:ERA Recertification
END:VEVENT
BEGIN:VEVENT
DTSTART;VALUE=DATE:20260726
DTEND;VALUE=DATE:20260727
DTSTAMP:20260421T125423
CREATED:20260403T195803Z
LAST-MODIFIED:20260421T165224Z
UID:46723-1785024000-1785110399@cogentsteps.net
SUMMARY:Open / ERA Recert July 26\, 2026 - Virtual: Cogent Step's Zoom
DESCRIPTION:ERA Recertification Course – Virtual (Cogent Step’s Zoom) \nDate: Saturday\, July 26th\, 2026 \nLocation: \nCogent Step’s Zoom Meeting \nLink & Password will be sent through email \nCapacity: 30 Students \nReview: Information for Students and Frequently Asked Questions \nStudents will need a SVERK or have the required materials needed to complete the labs. SVERKS can be purchased separately from our store. \n 
URL:https://cogentsteps.net/calendar/open-era-recert-july-26-2026-virtual-cogent-steps-zoom/
LOCATION:Virtual – Cogent Step’s Zoom\, Virtual Training
CATEGORIES:ERA Recertification
ATTACH;FMTTYPE=image/jpeg:https://cogentsteps.net/wp-content/uploads/2026/03/era-recert-125.jpg
END:VEVENT
BEGIN:VEVENT
DTSTART;VALUE=DATE:20260808
DTEND;VALUE=DATE:20260809
DTSTAMP:20260421T125423
CREATED:20260403T200323Z
LAST-MODIFIED:20260421T164030Z
UID:46725-1786147200-1786233599@cogentsteps.net
SUMMARY:Closed / ERA Recert August 8\, 2026 - Virginia Beach\, VA
DESCRIPTION:Content is protected.
URL:https://cogentsteps.net/calendar/closed-era-recert-august-8th-2026-virginia-beach-va/
LOCATION:CHKD Landstown Clinic\, 1924 Landstown Centre Way\, Suite 201\, Virginia Beach\, VA\, 23456\, United States
CATEGORIES:ERA Recertification
END:VEVENT
BEGIN:VEVENT
DTSTART;VALUE=DATE:20260912
DTEND;VALUE=DATE:20260914
DTSTAMP:20260421T125424
CREATED:20260303T161450Z
LAST-MODIFIED:20260421T154510Z
UID:44230-1789171200-1789343999@cogentsteps.net
SUMMARY:Open / ERA Course September 12-13\, 2026 - Las Vegas\, NV
DESCRIPTION:ERA Full Course – Las Vegas\, NVDate: Saturday\, September 12 to Sunday\, September 13\, 2026Location:UNLV PT\n4505 S Maryland Parkway\nLas Vegas\, NV 89154  \nCapacity: 30 participants \nCPR training is not included in the ERA Course. If CPR is needed\, please purchase this optional enrichment module at the Cogent Steps online store. \nPhysicians: professional rate \nEMTs\, PTA\, and Coaches: student rate
URL:https://cogentsteps.net/calendar/open-era-course-september-12-13-2026-las-vegas-nv/
LOCATION:UNLV Physical Therapy\, 4505 S Maryland Parkway\, MS 3029 \, Las Vegas\, NV\, 89154\, United States
CATEGORIES:Emergency Response for the Athlete
ATTACH;FMTTYPE=image/jpeg:https://cogentsteps.net/wp-content/uploads/2026/03/era-cert-13.jpg
END:VEVENT
BEGIN:VEVENT
DTSTART;VALUE=DATE:20260912
DTEND;VALUE=DATE:20260913
DTSTAMP:20260421T125424
CREATED:20260403T200810Z
LAST-MODIFIED:20260421T164127Z
UID:46730-1789171200-1789257599@cogentsteps.net
SUMMARY:Open / ERA Recert September 12\, 2026 – Las Vegas\, NV
DESCRIPTION:ERA Recertification – Las Vegas\, NV \nDate: Saturday\, September 12\, 2026Location:\nUNLV Physical Therapy\n4505 S Maryland Parkway\nLas Vegas\, NV\n89154\nCapacity: 30 Students \nREVIEW: Information for Students and Frequently Asked Questions \nREMINDER: CPR training is not included in the course. Purchase this optional enrichment module through the Cogent Steps store. \n 
URL:https://cogentsteps.net/calendar/open-era-recert-september-12-2026-las-vegas-nv/
LOCATION:UNLV Physical Therapy\, 4505 S Maryland Parkway\, MS 3029 \, Las Vegas\, NV\, 89154\, United States
CATEGORIES:ERA Recertification
ATTACH;FMTTYPE=image/jpeg:https://cogentsteps.net/wp-content/uploads/2026/03/era-recert-125.jpg
END:VEVENT
BEGIN:VEVENT
DTSTART;VALUE=DATE:20260920
DTEND;VALUE=DATE:20260921
DTSTAMP:20260421T125424
CREATED:20260403T201118Z
LAST-MODIFIED:20260421T164527Z
UID:46732-1789862400-1789948799@cogentsteps.net
SUMMARY:Open / ERA Recert September 20\, 2026 - Virtual: Cogent Step's Zoom
DESCRIPTION:ERA Recertification Course – Virtual (Cogent Step’s Zoom) \nDate: Saturday\, September 20\, 2026 \nLocation: \nCogent Step’s Zoom Meeting \nLink and Password will be sent via email \nCapacity: 30 Students \nReview: Information for Students and Frequently Asked Questions \nStudents will need a SVERK or have the required materials needed to complete the required labs. SVERKS can be purchased separately from our store. \n 
URL:https://cogentsteps.net/calendar/open-era-recert-sept-20-2026-virtual-cogent-steps-zoom/
LOCATION:Virtual – Cogent Step’s Zoom\, Virtual Training
CATEGORIES:ERA Recertification
END:VEVENT
BEGIN:VEVENT
DTSTART;VALUE=DATE:20261107
DTEND;VALUE=DATE:20261109
DTSTAMP:20260421T125424
CREATED:20260226T154915Z
LAST-MODIFIED:20260421T154632Z
UID:43603-1794009600-1794182399@cogentsteps.net
SUMMARY:Open / ERA Course November 7-8\, 2026 - Vail\, CO
DESCRIPTION:ERA Full Course – Vail\, CODate: Saturday\, November 7 to Sunday\, November 8\, 2026Location:Howard Head Sports Medicine\n377 Sylvan Lake Road\nEagle\, CO  81631 \nCapacity: 24 participants \nCPR training is not included in the ERA Course. If CPR is needed\, please purchase this optional enrichment module at the Cogent Steps online store. \nPhysicians: professional rate \nEMTs\, PTA\, and Coaches: student rate
URL:https://cogentsteps.net/calendar/open-era-course-november-7-8-2026-vail-co/
LOCATION:Howard Head Sports Medicine\, 377 Sylvan Lake Road\, Vail\, CO\, 81631\, United States
CATEGORIES:Emergency Response for the Athlete
ATTACH;FMTTYPE=image/jpeg:https://cogentsteps.net/wp-content/uploads/2026/02/era-cert-49.jpg
END:VEVENT
BEGIN:VEVENT
DTSTART;VALUE=DATE:20261114
DTEND;VALUE=DATE:20261115
DTSTAMP:20260421T125424
CREATED:20260403T201550Z
LAST-MODIFIED:20260421T164739Z
UID:46734-1794614400-1794700799@cogentsteps.net
SUMMARY:Open / ERA Recert November 14\, 2026 - Virtual: Cogent Step's Zoom
DESCRIPTION:ERA Recertification Course – Virtual (Cogent Step’s Zoom) \nDate: Saturday\, November 14\, 2026 \nLocation: \nCogent Step’s Zoom Meeting \nLink & Password will be sent through email \nCapacity: 30 Students \nReview: Information for Students and Frequently Asked Questions \nStudents will need a SVERK or have the required materials needed to complete the required labs. SVERKS can be purchased separately from our store. \n 
URL:https://cogentsteps.net/calendar/open-era-recert-nov-14-2026-virtual-cogent-steps-zoom/
LOCATION:Virtual – Cogent Step’s Zoom\, Virtual Training
CATEGORIES:ERA Recertification
ATTACH;FMTTYPE=image/jpeg:https://cogentsteps.net/wp-content/uploads/2026/03/era-recert-125.jpg
END:VEVENT
BEGIN:VEVENT
DTSTART;VALUE=DATE:20261219
DTEND;VALUE=DATE:20261220
DTSTAMP:20260421T125424
CREATED:20260403T201948Z
LAST-MODIFIED:20260421T164915Z
UID:46736-1797638400-1797724799@cogentsteps.net
SUMMARY:Open / ERA Recert December 19\, 2026 - Virtual: Cogent Step's Zoom
DESCRIPTION:ERA Recertification Course – Virtual (Cogent Step’s Zoom) \nDate: Saturday Dec 19\, 2026 \nLocation: \nCogent Step’s Zoom Meeting \nLink & Password will be sent through email \nCapacity: 30 Students \nReview: Information for Students and Frequently Asked Questions \nStudents will need a SVERK or have the required materials needed to complete the required labs. SVERKS can be purchased separately from our store. \n  \n 
URL:https://cogentsteps.net/calendar/open-era-recert-dec-19-2026-virtual-cogent-steps-zoom/
LOCATION:Virtual – Cogent Step’s Zoom\, Virtual Training
CATEGORIES:ERA Recertification
ATTACH;FMTTYPE=image/jpeg:https://cogentsteps.net/wp-content/uploads/2026/03/era-recert-125.jpg
END:VEVENT
END:VCALENDAR