BEGIN:VCALENDAR
VERSION:2.0
PRODID:-//Cogent Steps, LLC - ECPv6.15.18//NONSGML v1.0//EN
CALSCALE:GREGORIAN
METHOD:PUBLISH
X-WR-CALNAME:Cogent Steps, LLC
X-ORIGINAL-URL:https://cogentsteps.net
X-WR-CALDESC:Events for Cogent Steps, LLC
REFRESH-INTERVAL;VALUE=DURATION:PT1H
X-Robots-Tag:noindex
X-PUBLISHED-TTL:PT1H
BEGIN:VTIMEZONE
TZID:America/New_York
BEGIN:DAYLIGHT
TZOFFSETFROM:-0500
TZOFFSETTO:-0400
TZNAME:EDT
DTSTART:20250309T070000
END:DAYLIGHT
BEGIN:STANDARD
TZOFFSETFROM:-0400
TZOFFSETTO:-0500
TZNAME:EST
DTSTART:20251102T060000
END:STANDARD
BEGIN:DAYLIGHT
TZOFFSETFROM:-0500
TZOFFSETTO:-0400
TZNAME:EDT
DTSTART:20260308T070000
END:DAYLIGHT
BEGIN:STANDARD
TZOFFSETFROM:-0400
TZOFFSETTO:-0500
TZNAME:EST
DTSTART:20261101T060000
END:STANDARD
BEGIN:DAYLIGHT
TZOFFSETFROM:-0500
TZOFFSETTO:-0400
TZNAME:EDT
DTSTART:20270314T070000
END:DAYLIGHT
BEGIN:STANDARD
TZOFFSETFROM:-0400
TZOFFSETTO:-0500
TZNAME:EST
DTSTART:20271107T060000
END:STANDARD
END:VTIMEZONE
BEGIN:VEVENT
DTSTART;VALUE=DATE:20260425
DTEND;VALUE=DATE:20260427
DTSTAMP:20260423T031110
CREATED:20251018T021739Z
LAST-MODIFIED:20260421T153002Z
UID:30033-1777075200-1777247999@cogentsteps.net
SUMMARY:Open / ERA Course April 25-26\, 2026 - New York\, NY
DESCRIPTION:ERA Full Course – New York\, NYDate: Saturday April 25th – Sunday April 26th\, 2026\nLocation:New York NY  “MOTION Sports Medicine – Midtown East\n160 E 56th Street\nNew York\, NY 10022 \nCapacity: 30 Students \nReview Information for Students prior to registering for this course\, here. Also\, review our Frequently Asked Questions\, here.REMINDER: CPR training is not included in the ERA Course\, purchase this optional enrichment module through Cogent Steps…\n\n\n\n	\n	\n\n		\n	\n	\n\n		\n	American Red Cross (ARC) Basic Life Support\nTo receive your Barrier Mask Kit\, please include the ERA course date and location for which you will be attending. \nIf you are not signed up for an ERA course but would still like to complete the ARC Basic Life Support class\, please follow the same steps—indicate the course date and location you would like to attend. \nRefer to the ERA course listing from our Course Calendar page to pick your location and date.
URL:https://cogentsteps.net/calendar/open-era-course-april-25-26-2026-new-york-ny/
LOCATION:New York NY – MOTION Sports Medicine – Midtown East\, 160 E 56th Street\, New York\, NY\, 10022\, United States
CATEGORIES:Emergency Response for the Athlete
ATTACH;FMTTYPE=image/jpeg:https://cogentsteps.net/wp-content/uploads/2025/10/era-cert-439.jpg
END:VEVENT
BEGIN:VEVENT
DTSTART;VALUE=DATE:20260502
DTEND;VALUE=DATE:20260503
DTSTAMP:20260423T031110
CREATED:20260403T191110Z
LAST-MODIFIED:20260421T163116Z
UID:46710-1777680000-1777766399@cogentsteps.net
SUMMARY:Open / ERA Recert May 2\, 2026 - Greenville\, SC
DESCRIPTION:ERA Recert Course – Greenville\, SCDATE: Saturday\, May 2\, 2026LOCATION:\nATI\n200 Patewood Dr Bldg C\nGreenville SC 29690 \nCAPACITY: 16 StudentsREVIEW: Information for Students and Frequently Asked Questions \nREMINDER: CPR training is not included in the course. Purchase this optional enrichment module through the Cogent Steps store.
URL:https://cogentsteps.net/calendar/open-era-recert-may-2nd-2026-greenville-sc/
LOCATION:ATI\, 200 Patewood Dr Bldg C\, Greenville\, South Carolina\, 29690\, United States
CATEGORIES:ERA Recertification
ATTACH;FMTTYPE=image/jpeg:https://cogentsteps.net/wp-content/uploads/2026/03/era-recert-125.jpg
END:VEVENT
BEGIN:VEVENT
DTSTART;VALUE=DATE:20260502
DTEND;VALUE=DATE:20260504
DTSTAMP:20260423T031110
CREATED:20260212T181058Z
LAST-MODIFIED:20260421T150601Z
UID:42309-1777680000-1777852799@cogentsteps.net
SUMMARY:Open / ERA Course May 2-3\, 2026 - Scottsdale\, AZ
DESCRIPTION:ERA Full Course – Scottsale\, AZDate: Saturday\, May 2 to Sunday\, May 3\, 2026Location:OrthoArizona\n9219 E Hidden Spur Trail\nScottsdale\, AZ  85255 \nCapacity: 20 participants \nCPR training is not included in the ERA Course. If CPR is needed\, please purchase this optional enrichment module at the Cogent Steps online store. \nPhysicians: professional rate \nEMTs\, PTA\, and Coaches: student rate
URL:https://cogentsteps.net/calendar/open-era-course-may-2-3-2026-scottsdale-az/
LOCATION:OrthoArizona\, 9219 E Hidden Spur Trail\, Scottsdale\, AZ\, 85255\, United States
CATEGORIES:Emergency Response for the Athlete
ATTACH;FMTTYPE=image/jpeg:https://cogentsteps.net/wp-content/uploads/2026/02/era-cert-46.jpg
END:VEVENT
BEGIN:VEVENT
DTSTART;VALUE=DATE:20260502
DTEND;VALUE=DATE:20260504
DTSTAMP:20260423T031110
CREATED:20260130T012629Z
LAST-MODIFIED:20260421T153634Z
UID:41903-1777680000-1777852799@cogentsteps.net
SUMMARY:Open / ERA Course May 2-3\, 2026 - Greenville SC
DESCRIPTION:ERA Full Course – Greenville SCDate: Saturday\, May 2nd – Sunday\, May 3rd\, 2026Location:200 Patewood Dr Bldg C\nGreenville SC 29690 \nCapacity: 16 participants \nCPR training is not included in the ERA Course. If CPR is needed\, please purchase this optional enrichment module at the Cogent Steps online store. \nPhysicians: professional rate \nEMTs\, PTA\, and Coaches: student rate
URL:https://cogentsteps.net/calendar/open-era-course-may-2-3-2026-greenville-sc/
LOCATION:ATI\, 200 Patewood Dr Bldg C\, Greenville\, South Carolina\, 29690\, United States
CATEGORIES:Emergency Response for the Athlete
ATTACH;FMTTYPE=image/jpeg:https://cogentsteps.net/wp-content/uploads/2026/01/era-cert-70.jpg
END:VEVENT
BEGIN:VEVENT
DTSTART;VALUE=DATE:20260502
DTEND;VALUE=DATE:20260504
DTSTAMP:20260423T031110
CREATED:20260106T230100Z
LAST-MODIFIED:20260421T153320Z
UID:40291-1777680000-1777852799@cogentsteps.net
SUMMARY:Open / ERA Course May 2-3\, 2026 - Anchorage\, AK
DESCRIPTION:ERA Full Course – Anchorage\, AKDate: Saturday\, May 2 – Sunday\, May 3\, 2026Location: \nAscent Health & Performance\n7216 Lake Otis Parkway\nAnchorage\, AK  99507\nCapacity: 30 participants \nCPR training is not included in the ERA Course. Purchase this optional enrichment module through Cogent Steps online store. \nPhysicians: professional rate \nEMTs\, PTA\, and Coaches: student rate \n 
URL:https://cogentsteps.net/calendar/open-era-course-may-2-3-2026-anchorage-ak/
LOCATION:Ascent Health & Performance\, 7216 Lake Otis Parkway\, Anchorage\, AK\, 99507\, United States
CATEGORIES:Emergency Response for the Athlete
ATTACH;FMTTYPE=image/jpeg:https://cogentsteps.net/wp-content/uploads/2026/01/era-cert-68.jpg
END:VEVENT
BEGIN:VEVENT
DTSTART;VALUE=DATE:20260516
DTEND;VALUE=DATE:20260517
DTSTAMP:20260423T031110
CREATED:20260403T192702Z
LAST-MODIFIED:20260421T165255Z
UID:46715-1778889600-1778975999@cogentsteps.net
SUMMARY:Open / ERA Recert May 16\, 2026 - Virtual: Cogent Step's Zoom
DESCRIPTION:ERA Recertification Course – Virtual (Cogent Step’s Zoom) \nDate: Saturday May 16\, 2026 \nLocation: \nCogent Step’s Zoom Meeting \nLink & Password will be sent through email \nCapacity: 30 Students \nReview: Information for Students and Frequently Asked Questions \nStudents will need a SVERK or have the required materials needed to complete the labs. SVERKS can be purchased separately from our store. \n 
URL:https://cogentsteps.net/calendar/open-era-recert-may-16-2026-virtual-cogent-steps-zoom/
LOCATION:Virtual – Cogent Step’s Zoom\, Virtual Training
CATEGORIES:ERA Recertification
ATTACH;FMTTYPE=image/jpeg:https://cogentsteps.net/wp-content/uploads/2026/03/era-recert-125.jpg
END:VEVENT
BEGIN:VEVENT
DTSTART;VALUE=DATE:20260606
DTEND;VALUE=DATE:20260608
DTSTAMP:20260423T031110
CREATED:20251126T142438Z
LAST-MODIFIED:20260421T153847Z
UID:33068-1780704000-1780876799@cogentsteps.net
SUMMARY:Open / ERA Course June 6-7\, 2026 - Jefferson\, LA
DESCRIPTION:ERA Full Course – Jefferson\, LADate: Saturday June 6th – Sunday June 7th\, 2026Location: \nOchsner Therapy & Wellness \n1201 S. Clearview Pkwy \nJefferson\, LA 70121 \nCapacity: 30 StudentsReview Information for Students prior to registering for this course\, here. Also\, review our Frequently Asked Questions\, here.REMINDER: CPR training is not included in the ERA Course\, purchase this optional enrichment module through Cogent Steps…\n\n\n\n	\n	\n\n		\n	\n	\n\n		\n	American Red Cross (ARC) Basic Life Support\nTo receive your Barrier Mask Kit\, please include the ERA course date and location for which you will be attending. \nIf you are not signed up for an ERA course but would still like to complete the ARC Basic Life Support class\, please follow the same steps—indicate the course date and location you would like to attend. \nRefer to the ERA course listing from our Course Calendar page to pick your location and date.
URL:https://cogentsteps.net/calendar/open-era-course-june-6-7-2026-jefferson-la/
LOCATION:Ochsner Therapy & Wellness\, 1201 S. Clearview Pkwy\, Jefferson\, LA\, 70121\, United States
CATEGORIES:Emergency Response for the Athlete
ATTACH;FMTTYPE=image/jpeg:https://cogentsteps.net/wp-content/uploads/2025/11/era-cert-285.jpg
END:VEVENT
BEGIN:VEVENT
DTSTART;VALUE=DATE:20260612
DTEND;VALUE=DATE:20260614
DTSTAMP:20260423T031110
CREATED:20260410T152253Z
LAST-MODIFIED:20260421T152340Z
UID:46899-1781222400-1781395199@cogentsteps.net
SUMMARY:Open / ERA Course June 12-13\, 2026 – Madison\, WI
DESCRIPTION:ERA Full Course: Madison\, WI \nDate: Friday\, June 12 to Saturday\, June 13\, 2026 \nLocation:\nUniversity of Wisconsin-Madison School of Physical Therapy\nMedical Sciences Center\nRoom 3265\n1300 University Avenue\nMadison WI 53706 \nCapacity: 25 students \nReminder: CPR training is not included in the ERA Course. It can be purchased as an optional enrichment module through the Cogent Steps Store. \nReview: Registered Student Information and Frequently Asked Questions
URL:https://cogentsteps.net/calendar/open-era-course-june-12-13-2026-madison-wi/
LOCATION:University of Wisconsin-Madison School of Physical Therapy\, Medical Sciences Center\, Room 3265\, 1300 University Avenue\, Madison\, WI\, 53706\, United States
CATEGORIES:Emergency Response for the Athlete
ORGANIZER;CN="Sue Arneson":MAILTO:skarneson@pt.wisc.edu
END:VEVENT
BEGIN:VEVENT
DTSTART;VALUE=DATE:20260613
DTEND;VALUE=DATE:20260615
DTSTAMP:20260423T031110
CREATED:20260421T150917Z
LAST-MODIFIED:20260422T142352Z
UID:47044-1781308800-1781481599@cogentsteps.net
SUMMARY:Closed / ERA Course June 13-14\, 2026 – Chicago\, IL
DESCRIPTION:Content is protected.
URL:https://cogentsteps.net/calendar/closed-era-course-june-13-14-2026-chicago-il/
LOCATION:Northwestern University\, 645 N Michigan Ave\, 7th floor\, Chicago\, IL\, 60611\, United States
CATEGORIES:Emergency Response for the Athlete
END:VEVENT
BEGIN:VEVENT
DTSTART;VALUE=DATE:20260613
DTEND;VALUE=DATE:20260614
DTSTAMP:20260423T031110
CREATED:20260403T193038Z
LAST-MODIFIED:20260421T165326Z
UID:46717-1781308800-1781395199@cogentsteps.net
SUMMARY:Open / ERA Recert June 13\, 2026 - Virtual: Cogent Step's Zoom
DESCRIPTION:ERA Recertification Course – Virtual (Cogent Step’s Zoom) \nDate: Saturday June 13th\, 2026 \nLocation: \nCogent Step’s Zoom Meeting \nLink & Password will be sent through email \nCapacity: 30 Students \nReview: Information for Students and Frequently Asked Questions \nStudents will need a SVERK or have the required materials needed to complete the labs. SVERKS can be purchased separately from our store.
URL:https://cogentsteps.net/calendar/open-era-recert-june-13-2026-virtual-cogent-steps-zoom/
LOCATION:Virtual – Cogent Step’s Zoom\, Virtual Training
CATEGORIES:ERA Recertification
ATTACH;FMTTYPE=image/jpeg:https://cogentsteps.net/wp-content/uploads/2026/03/era-recert-125.jpg
END:VEVENT
BEGIN:VEVENT
DTSTART;VALUE=DATE:20260613
DTEND;VALUE=DATE:20260615
DTSTAMP:20260423T031110
CREATED:20260326T180836Z
LAST-MODIFIED:20260421T152535Z
UID:46334-1781308800-1781481599@cogentsteps.net
SUMMARY:Open / ERA Course June 13-14\, 2026 - Manhattan\, KS
DESCRIPTION:ERA Full Course – Manhattan\, KSDate: Saturday\, June 13 to Sunday\, June 14\, 2026Location:Orthopedic & Sports Medicine Center\nPT East Clinic\n8231 Positano Dr.\nManhattan\, KS 66502 \n  \nCapacity: 30 participants \nCPR training is not included in the ERA Course. If CPR is needed\, please purchase this optional enrichment module at the Cogent Steps online store. \nPhysicians: professional rate \nEMTs\, PTA\, and Coaches: student rate
URL:https://cogentsteps.net/calendar/open-era-course-june-13-14-2026-manhattan-ks/
LOCATION:Orthopedic & Sports Medicine Center / PT East Clinic\, 8231 Positano Dr\, Manhattan\, KS\, 66502\, United States
CATEGORIES:Emergency Response for the Athlete
ATTACH;FMTTYPE=image/jpeg:https://cogentsteps.net/wp-content/uploads/2026/03/era-cert-15.jpg
END:VEVENT
BEGIN:VEVENT
DTSTART;VALUE=DATE:20260627
DTEND;VALUE=DATE:20260629
DTSTAMP:20260423T031110
CREATED:20260217T195804Z
LAST-MODIFIED:20260422T142118Z
UID:42646-1782518400-1782691199@cogentsteps.net
SUMMARY:Open / ERA Course June 27-28\, 2026 - Omaha\, NE
DESCRIPTION:ERA Full Course – Omaha\, NE\nDate: Saturday\, June 27 – Sunday\, June 28\, 2026Location:\nRock Valley PT\n8001 N. 157th St. Suite 103\nBennington\, NE 68007\nPhone: 402-238-2552 \nCapacity: 15 participants \nCPR training is not included in the ERA Course. Purchase this optional enrichment module through Cogent Steps online store. \nPhysicians: professional rate \nEMTs\, PTA\, and Coaches: student rate
URL:https://cogentsteps.net/calendar/open-era-course-june-27-28-2026-bennington-ne/
LOCATION:Rock Valley PT\, 7611 Pacific Street\, Omaha\, NE\, 68114\, United States
CATEGORIES:Emergency Response for the Athlete
ATTACH;FMTTYPE=image/jpeg:https://cogentsteps.net/wp-content/uploads/2026/02/era-cert-47.jpg
END:VEVENT
BEGIN:VEVENT
DTSTART;VALUE=DATE:20260711
DTEND;VALUE=DATE:20260712
DTSTAMP:20260423T031110
CREATED:20260403T193443Z
LAST-MODIFIED:20260421T163551Z
UID:46719-1783728000-1783814399@cogentsteps.net
SUMMARY:Open / ERA Recert July 11\, 2026 – Folsom\, CA
DESCRIPTION:ERA Recertification – Folsom\, CA \nDate: Saturday\, July 11\, 2026Location:\nMAC Performance Physical Therapy\nPt 691 East Bidwell St\nFolsom\, CA 95639 REVIEW: Information for Students and Frequently Asked Questions \nREMINDER: CPR training is not included in the course. Purchase this optional enrichment module through the Cogent Steps store.
URL:https://cogentsteps.net/calendar/open-era-recert-july-11-2026-folsom-ca/
LOCATION:MAC Performance Physical Therapy\, 691 East Bidwell St\, Folsom\, CA\, 95639\, United States
CATEGORIES:ERA Recertification
ATTACH;FMTTYPE=image/jpeg:https://cogentsteps.net/wp-content/uploads/2026/03/era-recert-125.jpg
END:VEVENT
BEGIN:VEVENT
DTSTART;VALUE=DATE:20260711
DTEND;VALUE=DATE:20260713
DTSTAMP:20260423T031110
CREATED:20260311T194301Z
LAST-MODIFIED:20260421T154334Z
UID:44960-1783728000-1783900799@cogentsteps.net
SUMMARY:Open / ERA Course July 11-12\, 2026 – Folsom\, CA
DESCRIPTION:ERA Full Course – Folsom\, CADate: Saturday\, July 11 to Sunday\, July 12\, 2026Location:MAC Performance Physical Therapy\nPt 691 East Bidwell St\nFolsom\, CA 95639 \nCapacity: 15 participants \nCPR training is not included in the ERA Course. If CPR is needed\, please purchase this optional enrichment module at the Cogent Steps online store. \nPhysicians: professional rate \nEMTs\, PTA\, and Coaches: student rate
URL:https://cogentsteps.net/calendar/open-era-course-july-11-12-2026-folsom-ca/
LOCATION:MAC Performance Physical Therapy\, 691 East Bidwell St\, Folsom\, CA\, 95639\, United States
CATEGORIES:Emergency Response for the Athlete
ATTACH;FMTTYPE=image/jpeg:https://cogentsteps.net/wp-content/uploads/2026/03/era-cert-14.jpg
END:VEVENT
BEGIN:VEVENT
DTSTART;VALUE=DATE:20260719
DTEND;VALUE=DATE:20260720
DTSTAMP:20260423T031110
CREATED:20260403T195247Z
LAST-MODIFIED:20260421T162850Z
UID:46721-1784419200-1784505599@cogentsteps.net
SUMMARY:Closed / ERA Recert July 19\, 2026 – Boise\, ID
DESCRIPTION:Content is protected.
URL:https://cogentsteps.net/calendar/closed-era-recert-july-19-2026-boise-id/
LOCATION:St. Luke’s Center for Orthopedic and Sports Medicine\, 2619 W Fairview Avenue\, Boise\, ID\, 83702\, United States
CATEGORIES:ERA Recertification
END:VEVENT
BEGIN:VEVENT
DTSTART;VALUE=DATE:20260726
DTEND;VALUE=DATE:20260727
DTSTAMP:20260423T031110
CREATED:20260403T195803Z
LAST-MODIFIED:20260421T165224Z
UID:46723-1785024000-1785110399@cogentsteps.net
SUMMARY:Open / ERA Recert July 26\, 2026 - Virtual: Cogent Step's Zoom
DESCRIPTION:ERA Recertification Course – Virtual (Cogent Step’s Zoom) \nDate: Saturday\, July 26th\, 2026 \nLocation: \nCogent Step’s Zoom Meeting \nLink & Password will be sent through email \nCapacity: 30 Students \nReview: Information for Students and Frequently Asked Questions \nStudents will need a SVERK or have the required materials needed to complete the labs. SVERKS can be purchased separately from our store. \n 
URL:https://cogentsteps.net/calendar/open-era-recert-july-26-2026-virtual-cogent-steps-zoom/
LOCATION:Virtual – Cogent Step’s Zoom\, Virtual Training
CATEGORIES:ERA Recertification
ATTACH;FMTTYPE=image/jpeg:https://cogentsteps.net/wp-content/uploads/2026/03/era-recert-125.jpg
END:VEVENT
BEGIN:VEVENT
DTSTART;VALUE=DATE:20260808
DTEND;VALUE=DATE:20260809
DTSTAMP:20260423T031110
CREATED:20260403T200323Z
LAST-MODIFIED:20260421T164030Z
UID:46725-1786147200-1786233599@cogentsteps.net
SUMMARY:Closed / ERA Recert August 8\, 2026 - Virginia Beach\, VA
DESCRIPTION:Content is protected.
URL:https://cogentsteps.net/calendar/closed-era-recert-august-8th-2026-virginia-beach-va/
LOCATION:CHKD Landstown Clinic\, 1924 Landstown Centre Way\, Suite 201\, Virginia Beach\, VA\, 23456\, United States
CATEGORIES:ERA Recertification
END:VEVENT
END:VCALENDAR