BEGIN:VCALENDAR
VERSION:2.0
PRODID:-//Cogent Steps, LLC - ECPv6.15.18//NONSGML v1.0//EN
CALSCALE:GREGORIAN
METHOD:PUBLISH
X-WR-CALNAME:Cogent Steps, LLC
X-ORIGINAL-URL:https://cogentsteps.net
X-WR-CALDESC:Events for Cogent Steps, LLC
REFRESH-INTERVAL;VALUE=DURATION:PT1H
X-Robots-Tag:noindex
X-PUBLISHED-TTL:PT1H
BEGIN:VTIMEZONE
TZID:America/New_York
BEGIN:DAYLIGHT
TZOFFSETFROM:-0500
TZOFFSETTO:-0400
TZNAME:EDT
DTSTART:20240310T070000
END:DAYLIGHT
BEGIN:STANDARD
TZOFFSETFROM:-0400
TZOFFSETTO:-0500
TZNAME:EST
DTSTART:20241103T060000
END:STANDARD
BEGIN:DAYLIGHT
TZOFFSETFROM:-0500
TZOFFSETTO:-0400
TZNAME:EDT
DTSTART:20250309T070000
END:DAYLIGHT
BEGIN:STANDARD
TZOFFSETFROM:-0400
TZOFFSETTO:-0500
TZNAME:EST
DTSTART:20251102T060000
END:STANDARD
BEGIN:DAYLIGHT
TZOFFSETFROM:-0500
TZOFFSETTO:-0400
TZNAME:EDT
DTSTART:20260308T070000
END:DAYLIGHT
BEGIN:STANDARD
TZOFFSETFROM:-0400
TZOFFSETTO:-0500
TZNAME:EST
DTSTART:20261101T060000
END:STANDARD
END:VTIMEZONE
BEGIN:VEVENT
DTSTART;VALUE=DATE:20251220
DTEND;VALUE=DATE:20251222
DTSTAMP:20260425T104129
CREATED:20250915T003819Z
LAST-MODIFIED:20260326T181917Z
UID:29586-1766188800-1766361599@cogentsteps.net
SUMMARY:(Open) ERA Course December 20-21\, 2025 - Waco\, TX
DESCRIPTION:ERA Full Course – Waco\, TXDate: Wednesday December 17th – Thursday December 18th\, 2025Location: \nBaylor Department of Physical Therapy\,821 Washington StreetWaco TX 76798 \nCapacity: 15 Students \nReview Information for Students prior to registering for this course\, here. Also\, review our Frequently Asked Questions\, here.REMINDER: CPR training is not included in the ERA Course\, purchase this optional enrichment module through Cogent Steps.
URL:https://cogentsteps.net/calendar/open-era-course-december-17-18-2025-waco-tx/
LOCATION:Baylor Department of Physical Therapy\, 821 Washington Street\, Waco\, TX\, 76798\, United States
CATEGORIES:Emergency Response for the Athlete
ATTACH;FMTTYPE=image/jpeg:https://cogentsteps.net/wp-content/uploads/2025/09/era-cert-239.jpg
END:VEVENT
BEGIN:VEVENT
DTSTART;VALUE=DATE:20251223
DTEND;VALUE=DATE:20251224
DTSTAMP:20260425T104129
CREATED:20251218T185136Z
LAST-MODIFIED:20260326T182009Z
UID:37633-1766448000-1766534399@cogentsteps.net
SUMMARY:(Closed) St. Petersburg Make-Up Immersive - December 23\, 2025 | Immersive Chapter Emergency Action Plans & Incident Action Plans\, Venue Equipment\, Supplies
DESCRIPTION:Content is protected.
URL:https://cogentsteps.net/calendar/closed-st-petersburg-make-up-immersive-december-23-2025-immersive-chapter-emergency-action-plans-incident-action-plans-venue-equipment-supplies/
LOCATION:(Closed) St. Petersburg Make-Up Immersive – December 23\, 2025\, 110 2nd St N\, St. Petersburg\, FL\, 33701\, United States
CATEGORIES:ERA Recertification
END:VEVENT
BEGIN:VEVENT
DTSTART;VALUE=DATE:20251229
DTEND;VALUE=DATE:20251231
DTSTAMP:20260425T104129
CREATED:20251222T012803Z
LAST-MODIFIED:20260326T182013Z
UID:38768-1766966400-1767139199@cogentsteps.net
SUMMARY:WTA Make-Up ERA Course
DESCRIPTION:By registering for this course\, you can complete the online portion of the training you missed.
URL:https://cogentsteps.net/calendar/wta-make-up-era-course/
LOCATION:WTA Make-Up ERA Course\, 6200 Elati Court\, Alexandria\, VA\, 22310\, United States
CATEGORIES:Emergency Response for the Athlete
END:VEVENT
END:VCALENDAR