BEGIN:VCALENDAR
VERSION:2.0
PRODID:-//Cogent Steps, LLC - ECPv6.15.18//NONSGML v1.0//EN
CALSCALE:GREGORIAN
METHOD:PUBLISH
X-WR-CALNAME:Cogent Steps, LLC
X-ORIGINAL-URL:https://cogentsteps.net
X-WR-CALDESC:Events for Cogent Steps, LLC
REFRESH-INTERVAL;VALUE=DURATION:PT1H
X-Robots-Tag:noindex
X-PUBLISHED-TTL:PT1H
BEGIN:VTIMEZONE
TZID:America/New_York
BEGIN:DAYLIGHT
TZOFFSETFROM:-0500
TZOFFSETTO:-0400
TZNAME:EDT
DTSTART:20240310T070000
END:DAYLIGHT
BEGIN:STANDARD
TZOFFSETFROM:-0400
TZOFFSETTO:-0500
TZNAME:EST
DTSTART:20241103T060000
END:STANDARD
BEGIN:DAYLIGHT
TZOFFSETFROM:-0500
TZOFFSETTO:-0400
TZNAME:EDT
DTSTART:20250309T070000
END:DAYLIGHT
BEGIN:STANDARD
TZOFFSETFROM:-0400
TZOFFSETTO:-0500
TZNAME:EST
DTSTART:20251102T060000
END:STANDARD
BEGIN:DAYLIGHT
TZOFFSETFROM:-0500
TZOFFSETTO:-0400
TZNAME:EDT
DTSTART:20260308T070000
END:DAYLIGHT
BEGIN:STANDARD
TZOFFSETFROM:-0400
TZOFFSETTO:-0500
TZNAME:EST
DTSTART:20261101T060000
END:STANDARD
END:VTIMEZONE
BEGIN:VEVENT
DTSTART;VALUE=DATE:20250719
DTEND;VALUE=DATE:20250720
DTSTAMP:20260421T044640
CREATED:20250211T120900Z
LAST-MODIFIED:20260326T181744Z
UID:16664-1752883200-1752969599@cogentsteps.net
SUMMARY:(Closed) ERA Recert July 19th\, 2025 - Shreveport\, LA | Immersive Chapter Common Medications in Sports Medicine
DESCRIPTION:Content is protected.
URL:https://cogentsteps.net/calendar/closed-era-recert-july-19th-2025-shreveport-la-immersive-chapter-common-medications-in-sports-medicine/
LOCATION:WK Orthopedic & Sports Medicine Center at WK Portico Center\, 7925 Youree Drive - Suite 140\, Shreveport\, Louisiana\, 71105\, United States
CATEGORIES:ERA Recertification
END:VEVENT
BEGIN:VEVENT
DTSTART;VALUE=DATE:20250719
DTEND;VALUE=DATE:20250720
DTSTAMP:20260421T044640
CREATED:20250211T120900Z
LAST-MODIFIED:20260326T181745Z
UID:16667-1752883200-1752969599@cogentsteps.net
SUMMARY:(Open) ERA Recert July 19\, 2025 - Virtual (Cogent Step's Zoom) | Immersive Chapter Common Medications in Sports Medicine
DESCRIPTION:By signing up this event\, you will be enrolled in Immersive chapter {Course Name}. \n \nERA Recertification Course – Virtual (Cogent Step’s Zoom) \nDate: Saturday July 19th\, 2025 \nLocation: \nCogent Step’s Zoom Meeting \nLink & Password will be sent through email \nCapacity: 30 Students \nReview Information for Students prior to registering for this course\, here. Also\, review our Frequently Asked Questions\, here. \nStudents will need a SVERK or have the required materials needed to complete the Flipgrid required labs. SVERKS can be purchased separately from our store here
URL:https://cogentsteps.net/calendar/open-era-recert-july-19-2025-virtual-cogent-steps-zoom-immersive-chapter-common-medications-in-sports-medicine/
LOCATION:Virtual – Cogent Step’s Zoom\, Virtual Training
CATEGORIES:ERA Recertification
ATTACH;FMTTYPE=image/jpeg:https://cogentsteps.net/wp-content/uploads/2025/02/26e29c14-d409-4581-b247-643a04383fb9-408.jpg
END:VEVENT
BEGIN:VEVENT
DTSTART;VALUE=DATE:20250719
DTEND;VALUE=DATE:20250720
DTSTAMP:20260421T044640
CREATED:20241105T004112Z
LAST-MODIFIED:20260326T181741Z
UID:15820-1752883200-1752969599@cogentsteps.net
SUMMARY:(Open) ERA Recert July 19\, 2025 - Virtual (Cogent Step's Zoom) | Immersive Chapter Disorders Associated with Heat Exposure
DESCRIPTION:By signing up this event\, you will be enrolled in Immersive chapter {Course Name}. \n \nERA Recertification Course – Virtual (Cogent Step’s Zoom) \nDate: Saturday July 19th\, 2025 \nLocation: \nCogent Step’s Zoom Meeting \nLink & Password will be sent through email \nCapacity: 30 Students \nReview Information for Students prior to registering for this course\, here. Also\, review our Frequently Asked Questions\, here. \nStudents will need a SVERK or have the required materials needed to complete the Flipgrid required labs. SVERKS can be purchased separately from our store here
URL:https://cogentsteps.net/calendar/open-era-recert-july-19-2025-virtual-cogent-steps-zoom/
LOCATION:Virtual – Cogent Step’s Zoom\, Virtual Training
CATEGORIES:ERA Recertification
ATTACH;FMTTYPE=image/jpeg:https://cogentsteps.net/wp-content/uploads/2024/11/26e29c14-d409-4581-b247-643a04383fb9-68.jpg
END:VEVENT
BEGIN:VEVENT
DTSTART;VALUE=DATE:20250719
DTEND;VALUE=DATE:20250721
DTSTAMP:20260421T044640
CREATED:20250117T010807Z
LAST-MODIFIED:20260326T181740Z
UID:16277-1752883200-1753055999@cogentsteps.net
SUMMARY:(Closed) ERA Course July 19-20\, 2025 - Shreveport\, LA
DESCRIPTION:Content is protected.
URL:https://cogentsteps.net/calendar/closed-era-course-july-19-20-2025-shreveport-la/
LOCATION:WK Orthopedic & Sports Medicine Center at WK Portico Center\, 7925 Youree Drive - Suite 140\, Shreveport\, Louisiana\, 71105\, United States
CATEGORIES:Emergency Response for the Athlete
END:VEVENT
END:VCALENDAR