BEGIN:VCALENDAR
VERSION:2.0
PRODID:-//Cogent Steps, LLC - ECPv6.15.18//NONSGML v1.0//EN
CALSCALE:GREGORIAN
METHOD:PUBLISH
X-ORIGINAL-URL:https://cogentsteps.net
X-WR-CALDESC:Events for Cogent Steps, LLC
REFRESH-INTERVAL;VALUE=DURATION:PT1H
X-Robots-Tag:noindex
X-PUBLISHED-TTL:PT1H
BEGIN:VTIMEZONE
TZID:America/New_York
BEGIN:DAYLIGHT
TZOFFSETFROM:-0500
TZOFFSETTO:-0400
TZNAME:EDT
DTSTART:20200308T070000
END:DAYLIGHT
BEGIN:STANDARD
TZOFFSETFROM:-0400
TZOFFSETTO:-0500
TZNAME:EST
DTSTART:20201101T060000
END:STANDARD
BEGIN:DAYLIGHT
TZOFFSETFROM:-0500
TZOFFSETTO:-0400
TZNAME:EDT
DTSTART:20210314T070000
END:DAYLIGHT
BEGIN:STANDARD
TZOFFSETFROM:-0400
TZOFFSETTO:-0500
TZNAME:EST
DTSTART:20211107T060000
END:STANDARD
BEGIN:DAYLIGHT
TZOFFSETFROM:-0500
TZOFFSETTO:-0400
TZNAME:EDT
DTSTART:20220313T070000
END:DAYLIGHT
BEGIN:STANDARD
TZOFFSETFROM:-0400
TZOFFSETTO:-0500
TZNAME:EST
DTSTART:20221106T060000
END:STANDARD
END:VTIMEZONE
BEGIN:VEVENT
DTSTART;TZID=America/New_York:20210311T171500
DTEND;TZID=America/New_York:20210311T190000
DTSTAMP:20260421T065241
CREATED:20210303T212228Z
LAST-MODIFIED:20210614T210937Z
UID:6757-1615482900-1615489200@cogentsteps.net
SUMMARY:Emergency Care for Babies and Toddlers
DESCRIPTION:Content is protected.
URL:https://cogentsteps.net/calendar/emergency-care-for-babies-and-toddlers/
LOCATION:Virtual – Cogent Step’s Zoom\, Virtual Training
CATEGORIES:Emergency Care for Babies and Toddlers
END:VEVENT
BEGIN:VEVENT
DTSTART;TZID=America/New_York:20210506T171500
DTEND;TZID=America/New_York:20210506T190000
DTSTAMP:20260421T065241
CREATED:20210306T022424Z
LAST-MODIFIED:20210614T210920Z
UID:6793-1620321300-1620327600@cogentsteps.net
SUMMARY:Emergency Care for Babies and Toddler - May 6th\, 2021
DESCRIPTION:Emergency Care for Babies and Toddlers \nDate: Thursday May 6th\, 2021 \nLocation:\nCogent Step’s Zoom Meeting\nLink & Password will be sent through email \nTime: 5:15-6:45 p.m.\nQ & A 6:45-7:00 p.m. \nCourse Information: \n\n90 Minute Virtual course\nCost is $45.00\n\nInfants and Toddlers are amazing and yet as parents\, we worry about the what-ifs. This 90-minute course will instruct on: \n\nChoking\nCPR\nRespiratory Emergencies\nFever & Seizures\nAllergies\nBleeding and Wounds\n\nCogent Steps Abi Smith\, the proud momma of baby C will demonstrate skills\, answer questions and provide a quick guide for care at home in these emergencies and help you determine when it’s time to contact your pediatrician or head to the Emergency Room. \nJoint Venture with Backed By Moms – www.backedbymoms.com
URL:https://cogentsteps.net/calendar/emergency-care-for-babies-and-toddler-may-6th-2021/
LOCATION:Virtual – Cogent Step’s Zoom\, Virtual Training
CATEGORIES:Emergency Care for Babies and Toddlers
ATTACH;FMTTYPE=image/jpeg:https://cogentsteps.net/wp-content/uploads/2021/03/Emergency-Care-for-Babies-and-Toddlers-featured.jpg
END:VEVENT
END:VCALENDAR